Package: scRecover Version: 1.18.0 Command: /Library/Frameworks/R.framework/Resources/bin/R CMD build --keep-empty-dirs --no-resave-data scRecover StartedAt: 2024-04-17 02:17:54 -0400 (Wed, 17 Apr 2024) EndedAt: 2024-04-17 02:19:57 -0400 (Wed, 17 Apr 2024) EllapsedTime: 123.0 seconds RetCode: 0 Status: OK PackageFile: scRecover_1.18.0.tar.gz PackageFileSize: 1.713 MiB