Package: scRecover Version: 1.18.0 Command: rm -rf scRecover.buildbin-libdir && mkdir scRecover.buildbin-libdir && /Users/biocbuild/BBS/utils/build-universal.sh scRecover_1.18.0.tar.gz /Library/Frameworks/R.framework/Resources/bin/R scRecover.buildbin-libdir StartedAt: 2024-04-18 11:12:05 -0400 (Thu, 18 Apr 2024) EndedAt: 2024-04-18 11:12:22 -0400 (Thu, 18 Apr 2024) EllapsedTime: 17.0 seconds RetCode: 0 Status: OK PackageFile: scRecover_1.18.0.tgz PackageFileSize: 1.167 MiB