Package: scMET Version: 1.4.0 Command: /Library/Frameworks/R.framework/Resources/bin/R CMD check --install=check:scMET.install-out.txt --library=/Library/Frameworks/R.framework/Resources/library --no-vignettes --timings scMET_1.4.0.tar.gz StartedAt: 2024-04-18 03:01:35 -0400 (Thu, 18 Apr 2024) EndedAt: 2024-04-18 03:05:20 -0400 (Thu, 18 Apr 2024) EllapsedTime: 224.9 seconds RetCode: 0 Status: OK CheckDir: scMET.Rcheck Warnings: 0