Package: scHOT Version: 1.14.0 Command: /Library/Frameworks/R.framework/Resources/bin/R CMD check --install=check:scHOT.install-out.txt --library=/Library/Frameworks/R.framework/Resources/library --no-vignettes --timings scHOT_1.14.0.tar.gz StartedAt: 2024-04-18 02:56:28 -0400 (Thu, 18 Apr 2024) EndedAt: 2024-04-18 03:01:35 -0400 (Thu, 18 Apr 2024) EllapsedTime: 306.8 seconds RetCode: 0 Status: OK CheckDir: scHOT.Rcheck Warnings: 0