Package: scHOT Version: 1.14.0 Command: /Library/Frameworks/R.framework/Resources/bin/R CMD build --keep-empty-dirs --no-resave-data scHOT StartedAt: 2024-04-17 02:03:45 -0400 (Wed, 17 Apr 2024) EndedAt: 2024-04-17 02:05:49 -0400 (Wed, 17 Apr 2024) EllapsedTime: 124.0 seconds RetCode: 0 Status: OK PackageFile: scHOT_1.14.0.tar.gz PackageFileSize: 2.314 MiB