Package: scDesign3 Version: 1.0.1 Command: rm -rf scDesign3.buildbin-libdir && mkdir scDesign3.buildbin-libdir && /Users/biocbuild/BBS/utils/build-universal.sh scDesign3_1.0.1.tar.gz /Library/Frameworks/R.framework/Resources/bin/R scDesign3.buildbin-libdir StartedAt: 2024-04-18 11:09:00 -0400 (Thu, 18 Apr 2024) EndedAt: 2024-04-18 11:09:14 -0400 (Thu, 18 Apr 2024) EllapsedTime: 13.6 seconds RetCode: 0 Status: OK PackageFile: scDesign3_1.0.1.tgz PackageFileSize: 1.093 MiB