Package: scClassify Version: 1.14.0 Command: /Library/Frameworks/R.framework/Resources/bin/R CMD build --keep-empty-dirs --no-resave-data scClassify StartedAt: 2024-04-17 01:49:31 -0400 (Wed, 17 Apr 2024) EndedAt: 2024-04-17 01:51:32 -0400 (Wed, 17 Apr 2024) EllapsedTime: 120.7 seconds RetCode: 0 Status: OK PackageFile: scClassify_1.14.0.tar.gz PackageFileSize: 2.91 MiB