Package: scCB2 Version: 1.12.0 Command: /Library/Frameworks/R.framework/Resources/bin/R CMD INSTALL scCB2 StartedAt: 2024-04-16 12:01:08 -0400 (Tue, 16 Apr 2024) EndedAt: 2024-04-16 12:01:55 -0400 (Tue, 16 Apr 2024) EllapsedTime: 47.5 seconds RetCode: 0 Status: OK