Package: scBubbletree Version: 1.4.0 Command: rm -rf scBubbletree.buildbin-libdir && mkdir scBubbletree.buildbin-libdir && /Users/biocbuild/BBS/utils/build-universal.sh scBubbletree_1.4.0.tar.gz /Library/Frameworks/R.framework/Resources/bin/R scBubbletree.buildbin-libdir StartedAt: 2024-04-18 11:07:55 -0400 (Thu, 18 Apr 2024) EndedAt: 2024-04-18 11:08:23 -0400 (Thu, 18 Apr 2024) EllapsedTime: 27.6 seconds RetCode: 0 Status: OK PackageFile: scBubbletree_1.4.0.tgz PackageFileSize: 2.403 MiB