Package: scBFA Version: 1.16.0 Command: /Library/Frameworks/R.framework/Resources/bin/R CMD build --keep-empty-dirs --no-resave-data scBFA StartedAt: 2024-04-17 01:47:05 -0400 (Wed, 17 Apr 2024) EndedAt: 2024-04-17 01:48:52 -0400 (Wed, 17 Apr 2024) EllapsedTime: 106.4 seconds RetCode: 0 Status: OK PackageFile: scBFA_1.16.0.tar.gz PackageFileSize: 1.212 MiB