Package: scAnnotatR Version: 1.8.0 Command: /Library/Frameworks/R.framework/Resources/bin/R CMD check --install=check:scAnnotatR.install-out.txt --library=/Library/Frameworks/R.framework/Resources/library --no-vignettes --timings scAnnotatR_1.8.0.tar.gz StartedAt: 2024-04-18 02:35:23 -0400 (Thu, 18 Apr 2024) EndedAt: 2024-04-18 02:44:01 -0400 (Thu, 18 Apr 2024) EllapsedTime: 517.4 seconds RetCode: 0 Status: WARNINGS CheckDir: scAnnotatR.Rcheck Warnings: 1