Package: scAnnotatR Version: 1.8.0 Command: /Library/Frameworks/R.framework/Resources/bin/R CMD build --keep-empty-dirs --no-resave-data scAnnotatR StartedAt: 2024-04-17 01:43:05 -0400 (Wed, 17 Apr 2024) EndedAt: 2024-04-17 02:00:28 -0400 (Wed, 17 Apr 2024) EllapsedTime: 1043.2 seconds RetCode: 0 Status: OK PackageFile: scAnnotatR_1.8.0.tar.gz PackageFileSize: 581.2 KiB