Package: sSeq Version: 1.40.0 Command: /Library/Frameworks/R.framework/Resources/bin/R CMD INSTALL sSeq StartedAt: 2024-04-16 10:07:41 -0400 (Tue, 16 Apr 2024) EndedAt: 2024-04-16 10:07:45 -0400 (Tue, 16 Apr 2024) EllapsedTime: 4.0 seconds RetCode: 0 Status: OK