Package: sSeq Version: 1.40.0 Command: /Library/Frameworks/R.framework/Resources/bin/R CMD build --keep-empty-dirs --no-resave-data sSeq StartedAt: 2024-04-17 03:32:40 -0400 (Wed, 17 Apr 2024) EndedAt: 2024-04-17 03:34:23 -0400 (Wed, 17 Apr 2024) EllapsedTime: 103.2 seconds RetCode: 0 Status: OK PackageFile: sSeq_1.40.0.tar.gz PackageFileSize: 4.201 MiB