Package: sSNAPPY Version: 1.6.2 Command: /Library/Frameworks/R.framework/Resources/bin/R CMD check --install=check:sSNAPPY.install-out.txt --library=/Library/Frameworks/R.framework/Resources/library --no-vignettes --timings sSNAPPY_1.6.2.tar.gz StartedAt: 2024-04-18 05:21:53 -0400 (Thu, 18 Apr 2024) EndedAt: 2024-04-18 05:32:53 -0400 (Thu, 18 Apr 2024) EllapsedTime: 660.1 seconds RetCode: 0 Status: OK CheckDir: sSNAPPY.Rcheck Warnings: 0