Package: sSNAPPY Version: 1.6.2 Command: rm -rf sSNAPPY.buildbin-libdir && mkdir sSNAPPY.buildbin-libdir && /Users/biocbuild/BBS/utils/build-universal.sh sSNAPPY_1.6.2.tar.gz /Library/Frameworks/R.framework/Resources/bin/R sSNAPPY.buildbin-libdir StartedAt: 2024-04-18 11:27:29 -0400 (Thu, 18 Apr 2024) EndedAt: 2024-04-18 11:28:19 -0400 (Thu, 18 Apr 2024) EllapsedTime: 50.1 seconds RetCode: 0 Status: OK PackageFile: sSNAPPY_1.6.2.tgz PackageFileSize: 4.396 MiB