Package: rtracklayer Version: 1.62.0 Command: /Library/Frameworks/R.framework/Resources/bin/R CMD INSTALL rtracklayer StartedAt: 2024-04-16 10:45:46 -0400 (Tue, 16 Apr 2024) EndedAt: 2024-04-16 10:46:51 -0400 (Tue, 16 Apr 2024) EllapsedTime: 64.8 seconds RetCode: 0 Status: OK