Package: rtracklayer Version: 1.62.0 Command: /Library/Frameworks/R.framework/Resources/bin/R CMD build --keep-empty-dirs --no-resave-data rtracklayer StartedAt: 2024-04-17 01:31:31 -0400 (Wed, 17 Apr 2024) EndedAt: 2024-04-17 01:33:23 -0400 (Wed, 17 Apr 2024) EllapsedTime: 112.1 seconds RetCode: 0 Status: OK PackageFile: rtracklayer_1.62.0.tar.gz PackageFileSize: 3.976 MiB