Package: rsemmed Version: 1.12.0 Command: /Library/Frameworks/R.framework/Resources/bin/R CMD build --keep-empty-dirs --no-resave-data rsemmed StartedAt: 2024-04-17 01:28:19 -0400 (Wed, 17 Apr 2024) EndedAt: 2024-04-17 01:28:45 -0400 (Wed, 17 Apr 2024) EllapsedTime: 26.0 seconds RetCode: 0 Status: OK PackageFile: rsemmed_1.12.0.tar.gz PackageFileSize: 2.181 MiB