Package: rqubic Version: 1.48.0 Command: /Library/Frameworks/R.framework/Resources/bin/R CMD build --keep-empty-dirs --no-resave-data rqubic StartedAt: 2024-04-17 01:26:09 -0400 (Wed, 17 Apr 2024) EndedAt: 2024-04-17 01:26:30 -0400 (Wed, 17 Apr 2024) EllapsedTime: 21.3 seconds RetCode: 0 Status: OK PackageFile: rqubic_1.48.0.tar.gz PackageFileSize: 189.1 KiB