Package: rqubic Version: 1.48.0 Command: rm -rf rqubic.buildbin-libdir && mkdir rqubic.buildbin-libdir && /Users/biocbuild/BBS/utils/build-universal.sh rqubic_1.48.0.tar.gz /Library/Frameworks/R.framework/Resources/bin/R rqubic.buildbin-libdir StartedAt: 2024-04-18 11:01:50 -0400 (Thu, 18 Apr 2024) EndedAt: 2024-04-18 11:02:05 -0400 (Thu, 18 Apr 2024) EllapsedTime: 15.8 seconds RetCode: 0 Status: OK PackageFile: rqubic_1.48.0.tgz PackageFileSize: 432.7 KiB