Package: rqt Version: 1.28.0 Command: /Library/Frameworks/R.framework/Resources/bin/R CMD build --keep-empty-dirs --no-resave-data rqt StartedAt: 2024-04-17 01:25:39 -0400 (Wed, 17 Apr 2024) EndedAt: 2024-04-17 01:26:40 -0400 (Wed, 17 Apr 2024) EllapsedTime: 60.9 seconds RetCode: 0 Status: OK PackageFile: rqt_1.28.0.tar.gz PackageFileSize: 540.3 KiB