Package: rpx Version: 2.10.0 Command: /Library/Frameworks/R.framework/Resources/bin/R CMD check --install=check:rpx.install-out.txt --library=/Library/Frameworks/R.framework/Resources/library --no-vignettes --timings rpx_2.10.0.tar.gz StartedAt: 2024-04-18 01:58:09 -0400 (Thu, 18 Apr 2024) EndedAt: 2024-04-18 01:59:12 -0400 (Thu, 18 Apr 2024) EllapsedTime: 63.4 seconds RetCode: 0 Status: OK CheckDir: rpx.Rcheck Warnings: 0