Package: rpx Version: 2.10.0 Command: /Library/Frameworks/R.framework/Resources/bin/R CMD build --keep-empty-dirs --no-resave-data rpx StartedAt: 2024-04-17 01:25:10 -0400 (Wed, 17 Apr 2024) EndedAt: 2024-04-17 01:25:27 -0400 (Wed, 17 Apr 2024) EllapsedTime: 17.0 seconds RetCode: 0 Status: OK PackageFile: rpx_2.10.0.tar.gz PackageFileSize: 316.1 KiB