Package: roar Version: 1.38.0 Command: /Library/Frameworks/R.framework/Resources/bin/R CMD build --keep-empty-dirs --no-resave-data roar StartedAt: 2024-04-17 01:21:47 -0400 (Wed, 17 Apr 2024) EndedAt: 2024-04-17 01:23:54 -0400 (Wed, 17 Apr 2024) EllapsedTime: 126.4 seconds RetCode: 0 Status: OK PackageFile: roar_1.38.0.tar.gz PackageFileSize: 901.9 KiB