Package: ribor Version: 1.14.0 Command: /Library/Frameworks/R.framework/Resources/bin/R CMD build --keep-empty-dirs --no-resave-data ribor StartedAt: 2024-04-17 01:01:55 -0400 (Wed, 17 Apr 2024) EndedAt: 2024-04-17 01:03:24 -0400 (Wed, 17 Apr 2024) EllapsedTime: 88.9 seconds RetCode: 0 Status: OK PackageFile: ribor_1.14.0.tar.gz PackageFileSize: 4.615 MiB