Package: rhdf5filters Version: 1.14.1 Maintainer: Mike Smith MaintainerEmail: grimbough at gmail.com git_url: https://git.bioconductor.org/packages/rhdf5filters git_branch: RELEASE_3_18 git_last_commit: 2a2e71e git_last_commit_date: 2023-12-13 07:02:59 -0400 (Wed, 13 Dec 2023)