Package: rfPred Version: 1.40.0 Maintainer: Hugo Varet MaintainerEmail: varethugo at gmail.com git_url: https://git.bioconductor.org/packages/rfPred git_branch: RELEASE_3_18 git_last_commit: c6c0d16 git_last_commit_date: 2023-10-24 09:55:14 -0400 (Tue, 24 Oct 2023)