Package: regutools Version: 1.14.0 Command: rm -rf regutools.buildbin-libdir && mkdir regutools.buildbin-libdir && /Users/biocbuild/BBS/utils/build-universal.sh regutools_1.14.0.tar.gz /Library/Frameworks/R.framework/Resources/bin/R regutools.buildbin-libdir StartedAt: 2024-04-18 10:49:25 -0400 (Thu, 18 Apr 2024) EndedAt: 2024-04-18 10:50:51 -0400 (Thu, 18 Apr 2024) EllapsedTime: 85.6 seconds RetCode: 0 Status: OK PackageFile: regutools_1.14.0.tgz PackageFileSize: 936 KiB