Package: regioneR Version: 1.34.0 Command: /Library/Frameworks/R.framework/Resources/bin/R CMD check --install=check:regioneR.install-out.txt --library=/Library/Frameworks/R.framework/Resources/library --no-vignettes --timings regioneR_1.34.0.tar.gz StartedAt: 2024-04-18 00:49:17 -0400 (Thu, 18 Apr 2024) EndedAt: 2024-04-18 00:58:55 -0400 (Thu, 18 Apr 2024) EllapsedTime: 577.3 seconds RetCode: 0 Status: OK CheckDir: regioneR.Rcheck Warnings: 0