Package: regionalpcs Version: 1.0.0 Command: /Library/Frameworks/R.framework/Resources/bin/R CMD build --keep-empty-dirs --no-resave-data regionalpcs StartedAt: 2024-04-17 00:43:27 -0400 (Wed, 17 Apr 2024) EndedAt: 2024-04-17 00:44:03 -0400 (Wed, 17 Apr 2024) EllapsedTime: 36.5 seconds RetCode: 0 Status: OK PackageFile: regionalpcs_1.0.0.tar.gz PackageFileSize: 470 KiB