Package: regionReport Version: 1.36.0 Command: rm -rf regionReport.buildbin-libdir && mkdir regionReport.buildbin-libdir && /Users/biocbuild/BBS/utils/build-universal.sh regionReport_1.36.0.tar.gz /Library/Frameworks/R.framework/Resources/bin/R regionReport.buildbin-libdir StartedAt: 2024-04-18 10:49:14 -0400 (Thu, 18 Apr 2024) EndedAt: 2024-04-18 10:50:29 -0400 (Thu, 18 Apr 2024) EllapsedTime: 75.3 seconds RetCode: 0 Status: OK PackageFile: regionReport_1.36.0.tgz PackageFileSize: 692.7 KiB