Package: recountmethylation Version: 1.12.0 Command: rm -rf recountmethylation.buildbin-libdir && mkdir recountmethylation.buildbin-libdir && /Users/biocbuild/BBS/utils/build-universal.sh recountmethylation_1.12.0.tar.gz /Library/Frameworks/R.framework/Resources/bin/R recountmethylation.buildbin-libdir StartedAt: 2024-04-18 10:48:00 -0400 (Thu, 18 Apr 2024) EndedAt: 2024-04-18 10:48:07 -0400 (Thu, 18 Apr 2024) EllapsedTime: 6.9 seconds RetCode: 0 Status: OK PackageFile: recountmethylation_1.12.0.tgz PackageFileSize: 4.794 MiB