Package: recount3 Version: 1.12.0 Command: /Library/Frameworks/R.framework/Resources/bin/R CMD INSTALL recount3 StartedAt: 2024-04-16 10:47:33 -0400 (Tue, 16 Apr 2024) EndedAt: 2024-04-16 10:48:16 -0400 (Tue, 16 Apr 2024) EllapsedTime: 43.7 seconds RetCode: 0 Status: OK