Package: recount3 Version: 1.12.0 Command: /Library/Frameworks/R.framework/Resources/bin/R CMD check --install=check:recount3.install-out.txt --library=/Library/Frameworks/R.framework/Resources/library --no-vignettes --timings recount3_1.12.0.tar.gz StartedAt: 2024-04-18 00:40:10 -0400 (Thu, 18 Apr 2024) EndedAt: 2024-04-18 00:50:49 -0400 (Thu, 18 Apr 2024) EllapsedTime: 638.8 seconds RetCode: 0 Status: OK CheckDir: recount3.Rcheck Warnings: 0