Package: recount3 Version: 1.12.0 Command: rm -rf recount3.buildbin-libdir && mkdir recount3.buildbin-libdir && /Users/biocbuild/BBS/utils/build-universal.sh recount3_1.12.0.tar.gz /Library/Frameworks/R.framework/Resources/bin/R recount3.buildbin-libdir StartedAt: 2024-04-18 10:48:00 -0400 (Thu, 18 Apr 2024) EndedAt: 2024-04-18 10:48:53 -0400 (Thu, 18 Apr 2024) EllapsedTime: 53.5 seconds RetCode: 0 Status: OK PackageFile: recount3_1.12.0.tgz PackageFileSize: 633.3 KiB