Package: rawrr Version: 1.10.2 Maintainer: Christian Panse MaintainerEmail: cp at fgcz.ethz.ch git_url: https://git.bioconductor.org/packages/rawrr git_branch: RELEASE_3_18 git_last_commit: 25ae3ee git_last_commit_date: 2023-11-08 15:16:09 -0400 (Wed, 08 Nov 2023)