Package: randRotation Version: 1.14.0 Command: /Library/Frameworks/R.framework/Resources/bin/R CMD check --install=check:randRotation.install-out.txt --library=/Library/Frameworks/R.framework/Resources/library --no-vignettes --timings randRotation_1.14.0.tar.gz StartedAt: 2024-04-18 00:23:53 -0400 (Thu, 18 Apr 2024) EndedAt: 2024-04-18 00:24:52 -0400 (Thu, 18 Apr 2024) EllapsedTime: 59.0 seconds RetCode: 1 Status: ERROR CheckDir: randRotation.Rcheck Warnings: NA