Package: randRotation Version: 1.14.0 Command: rm -rf randRotation.buildbin-libdir && mkdir randRotation.buildbin-libdir && /Users/biocbuild/BBS/utils/build-universal.sh randRotation_1.14.0.tar.gz /Library/Frameworks/R.framework/Resources/bin/R randRotation.buildbin-libdir StartedAt: 2024-04-18 10:45:00 -0400 (Thu, 18 Apr 2024) EndedAt: 2024-04-18 10:45:07 -0400 (Thu, 18 Apr 2024) EllapsedTime: 6.8 seconds RetCode: 0 Status: OK PackageFile: randRotation_1.14.0.tgz PackageFileSize: 1.118 MiB