Package: rWikiPathways Version: 1.22.1 Command: /Library/Frameworks/R.framework/Resources/bin/R CMD INSTALL rWikiPathways StartedAt: 2024-04-16 10:25:28 -0400 (Tue, 16 Apr 2024) EndedAt: 2024-04-16 10:25:33 -0400 (Tue, 16 Apr 2024) EllapsedTime: 5.6 seconds RetCode: 0 Status: OK