Package: rGenomeTracks Version: 1.8.0 Command: /Library/Frameworks/R.framework/Resources/bin/R CMD build --keep-empty-dirs --no-resave-data rGenomeTracks StartedAt: 2024-04-17 00:51:52 -0400 (Wed, 17 Apr 2024) EndedAt: 2024-04-17 00:52:07 -0400 (Wed, 17 Apr 2024) EllapsedTime: 15.7 seconds RetCode: 0 Status: OK PackageFile: rGenomeTracks_1.8.0.tar.gz PackageFileSize: 3.345 MiB