Package: rGenomeTracks Version: 1.8.0 Command: rm -rf rGenomeTracks.buildbin-libdir && mkdir rGenomeTracks.buildbin-libdir && /Users/biocbuild/BBS/utils/build-universal.sh rGenomeTracks_1.8.0.tar.gz /Library/Frameworks/R.framework/Resources/bin/R rGenomeTracks.buildbin-libdir StartedAt: 2024-04-18 10:51:14 -0400 (Thu, 18 Apr 2024) EndedAt: 2024-04-18 10:51:25 -0400 (Thu, 18 Apr 2024) EllapsedTime: 11.5 seconds RetCode: 0 Status: OK PackageFile: rGenomeTracks_1.8.0.tgz PackageFileSize: 3.406 MiB