Package: rGADEM Version: 2.50.0 Command: rm -rf rGADEM.buildbin-libdir && mkdir rGADEM.buildbin-libdir && /Users/biocbuild/BBS/utils/build-universal.sh rGADEM_2.50.0.tar.gz /Library/Frameworks/R.framework/Resources/bin/R rGADEM.buildbin-libdir StartedAt: 2024-04-18 10:51:14 -0400 (Thu, 18 Apr 2024) EndedAt: 2024-04-18 10:52:31 -0400 (Thu, 18 Apr 2024) EllapsedTime: 77.5 seconds RetCode: 0 Status: OK PackageFile: rGADEM_2.50.0.tgz PackageFileSize: 682.9 KiB