Package: quantiseqr Version: 1.10.0 Command: /Library/Frameworks/R.framework/Resources/bin/R CMD build --keep-empty-dirs --no-resave-data quantiseqr StartedAt: 2024-04-17 00:14:54 -0400 (Wed, 17 Apr 2024) EndedAt: 2024-04-17 00:16:15 -0400 (Wed, 17 Apr 2024) EllapsedTime: 81.8 seconds RetCode: 0 Status: OK PackageFile: quantiseqr_1.10.0.tar.gz PackageFileSize: 3.654 MiB