Package: qsea Version: 1.28.0 Command: /Library/Frameworks/R.framework/Resources/bin/R CMD check --install=check:qsea.install-out.txt --library=/Library/Frameworks/R.framework/Resources/library --no-vignettes --timings qsea_1.28.0.tar.gz StartedAt: 2024-04-18 00:05:28 -0400 (Thu, 18 Apr 2024) EndedAt: 2024-04-18 00:10:59 -0400 (Thu, 18 Apr 2024) EllapsedTime: 331.7 seconds RetCode: 0 Status: OK CheckDir: qsea.Rcheck Warnings: 0