Package: qpgraph Version: 2.36.0 Command: /Library/Frameworks/R.framework/Resources/bin/R CMD check --install=check:qpgraph.install-out.txt --library=/Library/Frameworks/R.framework/Resources/library --no-vignettes --timings qpgraph_2.36.0.tar.gz StartedAt: 2024-04-18 00:02:41 -0400 (Thu, 18 Apr 2024) EndedAt: 2024-04-18 00:09:05 -0400 (Thu, 18 Apr 2024) EllapsedTime: 384.7 seconds RetCode: 0 Status: WARNINGS CheckDir: qpgraph.Rcheck Warnings: 1