Package: qpcrNorm Version: 1.60.0 Command: /Library/Frameworks/R.framework/Resources/bin/R CMD INSTALL qpcrNorm StartedAt: 2024-04-16 10:11:09 -0400 (Tue, 16 Apr 2024) EndedAt: 2024-04-16 10:11:14 -0400 (Tue, 16 Apr 2024) EllapsedTime: 5.5 seconds RetCode: 0 Status: OK