Package: qpcrNorm Version: 1.60.0 Command: /Library/Frameworks/R.framework/Resources/bin/R CMD check --install=check:qpcrNorm.install-out.txt --library=/Library/Frameworks/R.framework/Resources/library --no-vignettes --timings qpcrNorm_1.60.0.tar.gz StartedAt: 2024-04-18 00:02:07 -0400 (Thu, 18 Apr 2024) EndedAt: 2024-04-18 00:02:49 -0400 (Thu, 18 Apr 2024) EllapsedTime: 41.8 seconds RetCode: 0 Status: OK CheckDir: qpcrNorm.Rcheck Warnings: 0