Package: qpcrNorm Version: 1.60.0 Command: /Library/Frameworks/R.framework/Resources/bin/R CMD build --keep-empty-dirs --no-resave-data qpcrNorm StartedAt: 2024-04-17 00:12:06 -0400 (Wed, 17 Apr 2024) EndedAt: 2024-04-17 00:12:20 -0400 (Wed, 17 Apr 2024) EllapsedTime: 13.8 seconds RetCode: 0 Status: OK PackageFile: qpcrNorm_1.60.0.tar.gz PackageFileSize: 549.2 KiB