Package: qpcrNorm Version: 1.60.0 Maintainer: Jessica Mar MaintainerEmail: jess at jimmy.harvard.edu git_url: https://git.bioconductor.org/packages/qpcrNorm git_branch: RELEASE_3_18 git_last_commit: 93f1931 git_last_commit_date: 2023-10-24 09:41:44 -0400 (Tue, 24 Oct 2023)